BEGIN:VCALENDAR
VERSION:2.0
PRODID:-//GT EDGE AI - ECPv6.15.17.1//NONSGML v1.0//EN
CALSCALE:GREGORIAN
METHOD:PUBLISH
X-WR-CALNAME:GT EDGE AI
X-ORIGINAL-URL:https://gtedge.ai
X-WR-CALDESC:Events for GT EDGE AI
REFRESH-INTERVAL;VALUE=DURATION:PT1H
X-Robots-Tag:noindex
X-PUBLISHED-TTL:PT1H
BEGIN:VTIMEZONE
TZID:America/Halifax
BEGIN:DAYLIGHT
TZOFFSETFROM:-0400
TZOFFSETTO:-0300
TZNAME:ADT
DTSTART:20250309T060000
END:DAYLIGHT
BEGIN:STANDARD
TZOFFSETFROM:-0300
TZOFFSETTO:-0400
TZNAME:AST
DTSTART:20251102T050000
END:STANDARD
BEGIN:DAYLIGHT
TZOFFSETFROM:-0400
TZOFFSETTO:-0300
TZNAME:ADT
DTSTART:20260308T060000
END:DAYLIGHT
BEGIN:STANDARD
TZOFFSETFROM:-0300
TZOFFSETTO:-0400
TZNAME:AST
DTSTART:20261101T050000
END:STANDARD
BEGIN:DAYLIGHT
TZOFFSETFROM:-0400
TZOFFSETTO:-0300
TZNAME:ADT
DTSTART:20270314T060000
END:DAYLIGHT
BEGIN:STANDARD
TZOFFSETFROM:-0300
TZOFFSETTO:-0400
TZNAME:AST
DTSTART:20271107T050000
END:STANDARD
END:VTIMEZONE
BEGIN:VEVENT
DTSTART;TZID=America/Halifax:20260426T133000
DTEND;TZID=America/Halifax:20260426T153000
DTSTAMP:20260425T195358
CREATED:20260414T233442Z
LAST-MODIFIED:20260415T125914Z
UID:14338-1777210200-1777217400@gtedge.ai
SUMMARY:AI CTF Powered by GT Edge AI @ Academies of Loudoun (Leesburg\, VA)
DESCRIPTION:In-person AI Capture The Flag (CTF) Competition: \nThe ACL Hackathon 2026 AI Capture The Flag (CTF) event will take place on Sunday\, April 26\, 2026\, at the Academies of Loudoun. Hosted in partnership with GT Edge AI\, the event is designed to engage middle and high school students in a hands-on cybersecurity competition. The AI CTF will run for approximately 90 minutes\, followed by a 15-minute awards ceremony and networking session. Attendance is estimated at 250–300 students.   \nAbout the Event: \nPrepare for an exciting two-day event where you can put your skills to the test\, collaborate with like-minded individuals\, and work on innovative projects. Whether you’re an experienced coder or just starting out\, this hackathon is a great opportunity to learn\, create\, and challenge yourself. \nRegister For This Event
URL:https://gtedge.ai/event/ai-ctf-powered-by-gt-edge-ai-academies-of-loudoun-leesburg-va/
LOCATION:Academies of Loudoun\, 42075 Loudoun Academy Dr\, Leesburg\, VA\, 20175
ATTACH;FMTTYPE=image/png:https://gtedge.ai/wp-content/uploads/30-1.png
END:VEVENT
BEGIN:VEVENT
DTSTART;TZID=America/Halifax:20260428T180000
DTEND;TZID=America/Halifax:20260428T200000
DTSTAMP:20260425T195358
CREATED:20260223T184921Z
LAST-MODIFIED:20260305T142552Z
UID:13986-1777399200-1777406400@gtedge.ai
SUMMARY:AI CTF Powered by GT Edge AI (Blacksburg\, VA)
DESCRIPTION:GT Edge AI is partnering with The Cybersecurity Club at Virginia Tech to support AI upskilling and provide the GT AI OS to cybersecurity students. \nAbout AI CTF Event Powered by GT Edge AI: \nThe Cybersecurity Club at Virginia Tech (CyberVT) is a student organization at Virginia Tech focused on educating students\, faculty\, and the wider Blacksburg public on cybersecurity. CyberVT provides a unique opportunity for students to collaborate and network with other aspiring security professionals.
URL:https://gtedge.ai/event/ai-ctf-powered-by-gt-edge-ai/
LOCATION:Corps Leadership and Military Science Building\, 355 Old Turner Street\, Blacksburg\, VA\, 24060\, United States
ATTACH;FMTTYPE=image/png:https://gtedge.ai/wp-content/uploads/CyberVT-AI-CTF.png
END:VEVENT
BEGIN:VEVENT
DTSTART;VALUE=DATE:20260429
DTEND;VALUE=DATE:20260501
DTSTAMP:20260425T195358
CREATED:20260115T191239Z
LAST-MODIFIED:20260115T191239Z
UID:13099-1777420800-1777593599@gtedge.ai
SUMMARY:Speaker & Exhibit @ The Business Show Miami 2026 (Miami\, FL)
DESCRIPTION:GT Edge AI will be exhibiting our private\, enterprise grade AI software together with Dell AI compute platform to support your business with enterprise AI. Founder & CEO\, Tom Bendien\, will be speaking about how small business and mid size enterprises can deploy AI with Governance\, data privacy and compliance.   \nAbout The Business Show Miami 2026: \nThe US’ Largest Business Event \nWelcome to the largest business event in the country\, designed for entrepreneurs\, startups\, and small business owners ready to grow\, scale\, and innovate. The Business Show brings together thousands of ambitious minds for two powerhouse events in the US – Las Vegas and Miami. Whether you’re launching a new venture or scaling your existing business\, this is your chance to access everything you need to succeed. \nRegister Here for the Conference
URL:https://gtedge.ai/event/speaker-exhibit-the-business-show-miami-2026-miami-fl/
LOCATION:Miami Beach Convention Center\, 1901 Convention Ctr Dr\, Miami Beach\, FL\, 33139\, United States
ATTACH;FMTTYPE=image/png:https://gtedge.ai/wp-content/uploads/2026-The-Business-Show-Miami.png
END:VEVENT
BEGIN:VEVENT
DTSTART;VALUE=DATE:20260430
DTEND;VALUE=DATE:20260502
DTSTAMP:20260425T195358
CREATED:20251121T151556Z
LAST-MODIFIED:20260107T150812Z
UID:13016-1777507200-1777679999@gtedge.ai
SUMMARY:CMMC Mid West 2026 (Wichita\, KS)
DESCRIPTION:Tom Bendien\, Founder and CEO of GT Edge AI\, will share insights on the compliant and responsible use of AI for the DIB and CMMC ecosystem. \n  \nAbout CMMC Mid West 2026 \nWe are a Wichita-based group\, dedicated to promoting education\, resources\, and community for the Midwestern Defense Industrial Base\, and others affected by the Cybersecurity Maturity Model Certification (CMMC) program. \nWe host an annual conference\, and smaller events throughout the year in order to bring together some of the biggest names in the Midwestern CMMC ecosystem\, and foster the open exchange of ideas and strategies for cybersecurity and compliance. \n  \nRegister Here for the Conference
URL:https://gtedge.ai/event/cmmc-mid-west-2026-wichita-ks/
LOCATION:To Be Announced
ATTACH;FMTTYPE=image/png:https://gtedge.ai/wp-content/uploads/CMMC-Midwest-2026.png
END:VEVENT
BEGIN:VEVENT
DTSTART;VALUE=DATE:20260518
DTEND;VALUE=DATE:20260602
DTSTAMP:20260425T195359
CREATED:20260420T154249Z
LAST-MODIFIED:20260420T160404Z
UID:14427-1779062400-1780358399@gtedge.ai
SUMMARY:LCPS Capstone Projects Sponsor (Loudoun County\, VA)
DESCRIPTION:GT Edge AI is pleased to be supporting numerous LCPS Capstone projects across many LCPS schools for the 2025-2026 school year. GT Edge AI will be providing students with hands-on AI education and upskilling\, and we look forward to seeing what these students create! \n  \nWhat is Capstone? \nLCPS Capstone is to provide high school students with an opportunity to acquire and demonstrate foundational skills in critical thinking\, collaboration\, communication and citizenship through real world learning experiences. Students create/choose their own workplace opportunity/project; they must have an authentic and meaningful experience.
URL:https://gtedge.ai/event/lcps-capstone-project-sponsor/
LOCATION:Online
ATTACH;FMTTYPE=image/png:https://gtedge.ai/wp-content/uploads/LCPS-Capstone.png
ORGANIZER;CN="LCPS":MAILTO:https://www.lcps.org
END:VEVENT
BEGIN:VEVENT
DTSTART;VALUE=DATE:20260720
DTEND;VALUE=DATE:20260724
DTSTAMP:20260425T195359
CREATED:20260420T155843Z
LAST-MODIFIED:20260420T155912Z
UID:14430-1784505600-1784851199@gtedge.ai
SUMMARY:Exhibitor @ Virginia Business Education Association Summer Conference 2026 (Virginia Beach\, VA)
DESCRIPTION:GT Edge AI is pleased to be exhibiting at the Virginia Business Education Association Summer Conference this year. \nAbout VBEA Summer Conference 2026: \nDon’t miss this opportunity to engage with industry leaders\, gain valuable insights\, and explore innovative approaches to business education. We look forward to seeing you at the 2026 VBEA Summer Conference! \nRegister Here for the Conference
URL:https://gtedge.ai/event/exhibitor-virginia-business-education-association-summer-conference-2026-virginia-beach-va/
LOCATION:The Founders Inn and Spa\, 5641 Indian River Rd\, Virginia Beach\, VA\, 23464\, United States
ATTACH;FMTTYPE=image/png:https://gtedge.ai/wp-content/uploads/VBEA2026.png
END:VEVENT
END:VCALENDAR